Felt | Verdi |
AlreadyApplied | True |
Aperture | 5.0 |
ApertureValue | 5.0 |
ApproximateFocusDistance | 4.25 |
AutoLateralCA | 0 |
BitsPerSample | 8 |
Blacks2012 | -24 |
BlueHue | 0 |
BlueSaturation | 0 |
Brightness | +50 |
CameraProfile | Adobe Standard |
CircleOfConfusion | 0.031 mm |
Clarity | 0 |
Clarity2012 | +61 |
ColorComponents | 3 |
ColorNoiseReduction | 25 |
ColorNoiseReductionDetail | 50 |
ColorTemperature | 4050 |
Contrast | +25 |
Contrast2012 | +10 |
ConvertToGrayscale | False |
CreateDate (1) | 2013:06:06 18:40:16.57 |
CreateDate | 2013:06:06 18:40:16 |
CreatorTool | Adobe Photoshop Lightroom 4.0 (Macintosh) |
CropAngle | -1.6663 |
CropBottom | 0.93999 |
CropConstrainToWarp | 0 |
CropHeight | 3494 |
CropLeft | 0.027909 |
CropRight | 0.460635 |
CropTop | 0.025161 |
CropUnit | pixels |
CropWidth | 2330 |
CustomRendered | Normal |
DateCreated (1) | 2013:06:06 |
DateCreated | 2013:06:06 18:40:16.57 |
DateTimeOriginal | 2013:06:06 18:40:16 |
Defringe | 0 |
DOF | 2.36 m (3.38 - 5.73 m) |
Exposure | 0.00 |
Exposure2012 | 0.00 |
ExposureCompensation | +4/3 |
ExposureMode | Auto |
ExposureProgram | Aperture-priority AE |
ExposureTime | 1/5 |
FillLight | 0 |
Firmware | 2.0.9 |
Flash | Off, Did not fire |
FlashCompensation | 0 |
FNumber | 5.0 |
FocalLength | 50.0 mm |
FocalLength35efl | 50.0 mm (35 mm equivalent: 48.8 mm) |
Format | image/jpeg |
FOV | 40.5 deg |
GradientBasedCorrActive | true |
GradientBasedCorrAmount | 1.000000 |
GradientBasedCorrBrightness | 0.000000 |
GradientBasedCorrClarity2012 | 0.666176 |
GradientBasedCorrContrast2012 | -0.976471 |
GradientBasedCorrExposure2012 (1) | 1.000000 |
GradientBasedCorrExposure2012 (3) | -0.319610 |
GradientBasedCorrExposure2012 (4) | 0.610779 |
GradientBasedCorrExposure2012 | -1.000000 |
GradientBasedCorrHighlights2012 | -0.797753 |
GradientBasedCorrHue | 0.000000 |
GradientBasedCorrLuminanceNoise | 0.000000 |
GradientBasedCorrMaskFullX (1) | 0.040247 |
GradientBasedCorrMaskFullX (2) | 0.048724 |
GradientBasedCorrMaskFullX (3) | 0.164415 |
GradientBasedCorrMaskFullX (4) | 0.038524 |
GradientBasedCorrMaskFullX (5) | 0.038266 |
GradientBasedCorrMaskFullX | 0.034636 |
GradientBasedCorrMaskFullY (1) | 0.629497 |
GradientBasedCorrMaskFullY (2) | 0.620791 |
GradientBasedCorrMaskFullY (3) | 0.950137 |
GradientBasedCorrMaskFullY (4) | 0.540647 |
GradientBasedCorrMaskFullY (5) | 0.049719 |
GradientBasedCorrMaskFullY | 0.053583 |
GradientBasedCorrMaskValue | 1.000000 |
GradientBasedCorrMaskWhat | Mask/Gradient |
GradientBasedCorrMaskZeroX (1) | 0.230940 |
GradientBasedCorrMaskZeroX (2) | 0.210471 |
GradientBasedCorrMaskZeroX (3) | 0.174240 |
GradientBasedCorrMaskZeroX (4) | 0.101728 |
GradientBasedCorrMaskZeroX (5) | 0.239143 |
GradientBasedCorrMaskZeroX | 0.143551 |
GradientBasedCorrMaskZeroY (1) | 0.623029 |
GradientBasedCorrMaskZeroY (2) | 0.618364 |
GradientBasedCorrMaskZeroY (3) | 0.660702 |
GradientBasedCorrMaskZeroY (4) | 0.551784 |
GradientBasedCorrMaskZeroY (5) | 0.281792 |
GradientBasedCorrMaskZeroY | 0.160913 |
GradientBasedCorrMoire | 0.000000 |
GradientBasedCorrSaturation (1) | -0.243504 |
GradientBasedCorrSaturation | 0.000000 |
GradientBasedCorrShadows2012 | 0.206812 |
GradientBasedCorrSharpness | 0.000000 |
GradientBasedCorrTemperature | -0.018697 |
GradientBasedCorrTint | 0.000000 |
GradientBasedCorrWhat | Correction |
GrainAmount | 0 |
GreenHue | 0 |
GreenSaturation | 0 |
HasCrop | True |
HasSettings | True |
HighlightRecovery | 0 |
Highlights2012 | +3 |
HueAdjustmentAqua | 0 |
HueAdjustmentBlue | 0 |
HueAdjustmentGreen | 0 |
HueAdjustmentMagenta | 0 |
HueAdjustmentOrange | 0 |
HueAdjustmentPurple | 0 |
HueAdjustmentRed | 0 |
HueAdjustmentYellow | 0 |
HyperfocalDistance | 16.24 m |
ImageHeight | 2330 |
ImageNumber | 0 |
ImageSize | 3494x2330 |
ImageWidth | 3494 |
ISO | 500 |
Lens | 50mm |
LensID (1) | 169 |
LensID | Sigma 50mm f/1.4 EX DG HSM |
LensInfo | 50mm f/? |
LensManualDistortionAmount | 0 |
LensModel | 50mm |
LensProfileEnable | 0 |
LensProfileSetup | LensDefaults |
LightValue | 4.6 |
LuminanceAdjustmentAqua | 0 |
LuminanceAdjustmentBlue | 0 |
LuminanceAdjustmentGreen | 0 |
LuminanceAdjustmentMagenta | 0 |
LuminanceAdjustmentOrange | 0 |
LuminanceAdjustmentPurple | 0 |
LuminanceAdjustmentRed | 0 |
LuminanceAdjustmentYellow | 0 |
LuminanceNoiseReductionContrast | 0 |
LuminanceNoiseReductionDetail | 50 |
LuminanceSmoothing | 33 |
Make | Canon |
MaxApertureValue | 1.4 |
Megapixels | 8.1 |
MeteringMode | Multi-segment |
Model | Canon EOS 5D Mark II |
ModifyDate (1) | 2013:06:11 00:36:09+02:00 |
ModifyDate | 2013:06:11 00:36:09 |
ParametricDarks | 0 |
ParametricHighlights | 0 |
ParametricHighlightSplit | 75 |
ParametricLights | 0 |
ParametricMidtoneSplit | 50 |
ParametricShadows | 0 |
ParametricShadowSplit | 25 |
PerspectiveHorizontal | 0 |
PerspectiveRotate | 0.0 |
PerspectiveScale | 100 |
PerspectiveVertical | 0 |
PostCropVignetteAmount | -21 |
PostCropVignetteFeather | 50 |
PostCropVignetteHighlightContrast | 0 |
PostCropVignetteMidpoint | 50 |
PostCropVignetteRoundness | 0 |
PostCropVignetteStyle | 1 |
ProcessVersion | 6.7 |
ProfileDescription | Adobe RGB (1998) |
RedHue | 0 |
RedSaturation | 0 |
Saturation | +32 |
SaturationAdjustmentAqua | -100 |
SaturationAdjustmentBlue | -100 |
SaturationAdjustmentGreen | -96 |
SaturationAdjustmentMagenta | -100 |
SaturationAdjustmentOrange | -100 |
SaturationAdjustmentPurple | -100 |
SaturationAdjustmentRed | +20 |
SaturationAdjustmentYellow | -90 |
ScaleFactor35efl | 1.0 |
SceneCaptureType | Standard |
SerialNumber | 3661702666 |
Shadows | 5 |
Shadows2012 | -48 |
ShadowTint | 0 |
SharpenDetail | 25 |
SharpenEdgeMasking | 0 |
SharpenRadius | +1.0 |
Sharpness | 25 |
ShutterSpeed | 1/5 |
ShutterSpeedValue | 1/5 |
Software | Adobe Photoshop Lightroom 4.0 (Macintosh) |
SplitToningBalance | 0 |
SplitToningHighlightHue | 0 |
SplitToningHighlightSaturation | 0 |
SplitToningShadowHue | 0 |
SplitToningShadowSaturation | 0 |
Tint | +5 |
ToneCurve | 0, 0, 255, 255 |
ToneCurveBlue | 0, 0, 255, 255 |
ToneCurveGreen | 0, 0, 255, 255 |
ToneCurveName | Linear |
ToneCurveName2012 | Linear |
ToneCurvePV2012 | 0, 0, 255, 255 |
ToneCurvePV2012Blue | 0, 0, 255, 255 |
ToneCurvePV2012Green | 0, 0, 255, 255 |
ToneCurvePV2012Red | 0, 0, 255, 255 |
ToneCurveRed | 0, 0, 255, 255 |
Version | 7.0 |
Vibrance | +12 |
VignetteAmount | 0 |
WhiteBalance (1) | As Shot |
WhiteBalance | Auto |
Whites2012 | +43 |