Felt | Verdi |
AlreadyApplied | True |
Aperture | 14.0 |
ApertureValue | 14.0 |
Artist | Roger Johan Andersen |
BitsPerSample | 8 |
BlueHue | 0 |
BlueSaturation | 0 |
Brightness | +50 |
By-line | Roger Johan Andersen |
CameraProfile | Adobe Standard |
CFAPattern | [Red,Green][Green,Blue] |
ChromaticAberrationB | 0 |
ChromaticAberrationR | 0 |
CircleOfConfusion | 0.020 mm |
Clarity | 0 |
ColorComponents | 1 |
ColorNoiseReduction | 25 |
ColorNoiseReductionDetail | 50 |
ColorSpace | sRGB |
ColorTemperature | 5900 |
Contrast (1) | +25 |
Contrast | Normal |
ConvertToGrayscale | True |
Copyright | Roger Johan Andersen |
CopyrightFlag | True |
CopyrightNotice | Roger Johan Andersen |
CreateDate (1) | 2011:04:09 15:31:52.00+02:00 |
CreateDate | 2011:04:09 15:31:52 |
Creator | Roger Johan Andersen |
CreatorAddress | Sjømarkveien 5 C |
CreatorCity | Levanger |
CreatorCountry | Norway |
CreatorPostalCode | 7600 |
CreatorTool | Adobe Photoshop Lightroom |
CreatorWorkEmail | rj-and@online.no |
CustomRendered | Normal |
DateTimeDigitized | 2011:04:09 15:31:52.00+02:00 |
DateTimeOriginal (1) | 2011:04:09 15:31:52.00+02:00 |
DateTimeOriginal | 2011:04:09 15:31:52 |
Defringe | 0 |
DigitalZoomRatio | 1 |
DOF | 1.44 m (2.43 - 3.87 m) |
ExifImageHeight | 2848 |
ExifImageWidth | 4288 |
Exposure | +0.11 |
ExposureCompensation | 0 |
ExposureMode | Manual |
ExposureProgram | Manual |
ExposureTime | 1/160 |
FillLight | 1 |
Flash | No Flash |
FlashFired | False |
FlashFunction | False |
FlashMode | Unknown |
FlashRedEyeMode | False |
FlashReturn | No return detection |
FNumber | 14.0 |
FocalLength | 60.0 mm |
FocalLength35efl | 60.0 mm (35 mm equivalent: 90.0 mm) |
FocalLengthIn35mmFormat | 90 mm |
FOV | 22.6 deg |
GainControl | None |
GrainAmount | 0 |
GrayMixerAqua | -22 |
GrayMixerBlue | +2 |
GrayMixerGreen | -22 |
GrayMixerMagenta | +10 |
GrayMixerOrange | -8 |
GrayMixerPurple | +14 |
GrayMixerRed | +2 |
GrayMixerYellow | -13 |
GreenHue | 0 |
GreenSaturation | 0 |
HasCrop | False |
HasSettings | True |
HighlightRecovery | 0 |
HyperfocalDistance | 12.84 m |
ImageHeight | 2848 |
ImageNumber | 15889 |
ImageSize | 4288x2848 |
ImageWidth | 4288 |
ISO | 200 |
Keywords | fotokurs |
Lens | 55.0-200.0 mm f/4.0-5.6 |
LensID (1) | 137 |
LensID | AF-S DX Zoom-Nikkor 55-200mm f/4-5.6G ED |
LensInfo | 55-200mm f/4-5.6 |
LensManualDistortionAmount | 0 |
LensProfileEnable | 0 |
LensProfileSetup | LensDefaults |
LightSource | Flash |
LightValue | 13.9 |
LuminanceNoiseReductionContrast | 0 |
LuminanceNoiseReductionDetail | 50 |
LuminanceSmoothing | 35 |
Make | NIKON CORPORATION |
Marked | True |
MaxApertureValue | 4.0 |
Megapixels | 12.2 |
MeteringMode | Multi-segment |
Model | NIKON D300 |
ModifyDate (1) | 2011:04:18 19:03:34+02:00 |
ModifyDate | 2011:04:18 19:08:53 |
Orientation | Horizontal (normal) |
ParametricDarks | +1 |
ParametricHighlights | -4 |
ParametricHighlightSplit | 75 |
ParametricLights | 0 |
ParametricMidtoneSplit | 50 |
ParametricShadows | 0 |
ParametricShadowSplit | 25 |
PerspectiveHorizontal | 0 |
PerspectiveRotate | 0.0 |
PerspectiveScale | 100 |
PerspectiveVertical | 0 |
PostCropVignetteAmount | 0 |
ProcessVersion | 5.7 |
ProfileDescription | sRGB IEC61966-2.1 |
RedHue | 0 |
RedSaturation | 0 |
Rights | Roger Johan Andersen |
Saturation | Normal |
ScaleFactor35efl | 1.5 |
SceneCaptureType | Standard |
SceneType | Directly photographed |
SensingMethod | One-chip color area |
SerialNumber | 4139048 |
Shadows | 0 |
ShadowTint | 0 |
SharpenDetail | 31 |
SharpenEdgeMasking | 14 |
SharpenRadius | +0.9 |
Sharpness (1) | 63 |
Sharpness | Normal |
ShutterSpeed | 1/160 |
ShutterSpeedValue | 1/160 |
Software | Adobe Photoshop 7.0 |
SplitToningBalance | 0 |
SplitToningHighlightHue | 0 |
SplitToningHighlightSaturation | 0 |
SplitToningShadowHue | 0 |
SplitToningShadowSaturation | 0 |
Subject | fotokurs |
SubjectDistance | 2.99 m |
SubjectDistanceRange | Unknown |
Tint | -3 |
ToneCurve | 0, 0, 32, 22, 64, 56, 128, 128, 192, 196, 255, 255 |
ToneCurveName | Medium Contrast |
URL_List | |
Version | 6.1 |
VignetteAmount | 0 |
WhiteBalance (1) | Custom |
WhiteBalance | Manual |