Felt | Verdi |
AlreadyApplied | True |
Aperture | 7.1 |
ApertureValue | 7.1 |
BitsPerSample | 8 |
BlueHue | 0 |
BlueSaturation | 0 |
Brightness | +54 |
CameraProfile | ACR 4.4 |
ChromaticAberrationB | 0 |
ChromaticAberrationR | 0 |
CircleOfConfusion | 0.019 mm |
Clarity | -57 |
ColorComponents | 3 |
ColorMode | RGB |
ColorNoiseReduction | 25 |
ColorSpace | Uncalibrated |
ColorTemperature | 3550 |
Contrast | +56 |
ConvertToGrayscale | False |
CreateDate (1) | 2009:07:31 13:59:36.00+02:00 |
CreateDate | 2009:07:31 13:59:36 |
CropAngle | 0 |
CropBottom | 0.940928 |
CropLeft | 0 |
CropRight | 0.89346 |
CropTop | 0.047468 |
CustomRendered | Normal |
DateTimeDigitized | 2009:07:31 13:59:36.00+02:00 |
DateTimeOriginal (1) | 2009:07:31 13:59:36.00+02:00 |
DateTimeOriginal | 2009:07:31 13:59:36 |
Defringe | 0 |
ExifImageHeight | 533 |
ExifImageWidth | 800 |
Exposure | -0.25 |
ExposureCompensation | -1/3 |
ExposureMode | Auto |
ExposureProgram | Aperture-priority AE |
ExposureTime | 1/1250 |
FillLight | 7 |
Firmware | 1.0.8 |
Flash | Off, Did not fire |
FlashCompensation | 0 |
FlashFired | False |
FlashFunction | False |
FlashMode | Off |
FlashRedEyeMode | False |
FlashReturn | No return detection |
FNumber | 7.1 |
FocalLength | 90.0 mm |
FocalLength35efl | 90.0 mm (35 mm equivalent: 145.7 mm) |
Format | image/jpeg |
FOV | 14.1 deg |
GreenHue | 0 |
GreenSaturation | 0 |
HasCrop | True |
HasSettings | True |
HighlightRecovery | 16 |
HueAdjustmentAqua | -13 |
HueAdjustmentBlue | -3 |
HueAdjustmentGreen | -17 |
HueAdjustmentMagenta | +23 |
HueAdjustmentOrange | +18 |
HueAdjustmentPurple | -16 |
HueAdjustmentRed | 0 |
HueAdjustmentYellow | +47 |
HyperfocalDistance | 61.47 m |
ICCProfileName | Adobe RGB (1998) |
ImageHeight | 533 |
ImageNumber | 0 |
ImageSize | 800x533 |
ImageWidth | 800 |
ISO | 800 |
Lens | 90mm |
LensInfo | 90mm f/? |
LightValue | 12.9 |
LuminanceAdjustmentAqua | -2 |
LuminanceAdjustmentBlue | -3 |
LuminanceAdjustmentGreen | +13 |
LuminanceAdjustmentMagenta | -15 |
LuminanceAdjustmentOrange | 0 |
LuminanceAdjustmentPurple | -7 |
LuminanceAdjustmentRed | 0 |
LuminanceAdjustmentYellow | 0 |
LuminanceSmoothing | 100 |
Make | Canon |
MaxApertureValue | 2.8 |
Megapixels | 0.426 |
MeteringMode | Center-weighted average |
Model | Canon EOS 40D |
ModifyDate (1) | 2009:07:31 15:34:12+02:00 |
ModifyDate | 2009:07:31 15:34:12 |
Orientation | Horizontal (normal) |
ParametricDarks | +31 |
ParametricHighlights | -5 |
ParametricHighlightSplit | 75 |
ParametricLights | +35 |
ParametricMidtoneSplit | 50 |
ParametricShadows | +10 |
ParametricShadowSplit | 25 |
PostCropVignetteAmount | 0 |
ProfileDescription | Adobe RGB (1998) |
Rating | 0 |
RawFileName | _MG_2762.CR2 |
RedHue | 0 |
RedSaturation | 0 |
Saturation | 0 |
SaturationAdjustmentAqua | 0 |
SaturationAdjustmentBlue | +33 |
SaturationAdjustmentGreen | -3 |
SaturationAdjustmentMagenta | +33 |
SaturationAdjustmentOrange | +33 |
SaturationAdjustmentPurple | -8 |
SaturationAdjustmentRed | -13 |
SaturationAdjustmentYellow | +8 |
ScaleFactor35efl | 1.6 |
SceneCaptureType | Standard |
SerialNumber | 1430735110 |
Shadows | 5 |
ShadowTint | 0 |
SharpenDetail | 31 |
SharpenEdgeMasking | 18 |
SharpenRadius | +1.0 |
Sharpness | 64 |
ShutterSpeed | 1/1250 |
ShutterSpeedValue | 1/1250 |
SidecarForExtension | CR2 |
Software | Adobe Photoshop CS4 Windows |
SplitToningBalance | 0 |
SplitToningHighlightHue | 0 |
SplitToningHighlightSaturation | 0 |
SplitToningShadowHue | 0 |
SplitToningShadowSaturation | 0 |
Tint | +14 |
ToneCurve | 0, 0, 32, 22, 64, 56, 128, 128, 192, 196, 255, 255 |
ToneCurveName | Medium Contrast |
URL_List | |
Version | 5.0 |
Vibrance | 0 |
VignetteAmount | 0 |
WhiteBalance (2) | Custom |
WhiteBalance | Manual |