Felt | Verdi |
AlreadyApplied | True |
Aperture | 10.0 |
ApertureValue | 10.0 |
ApproximateFocusDistance | 4294967295 |
AutoLateralCA | 1 |
AutoWhiteVersion | 134348800 |
BitsPerSample | 8 |
Blacks2012 | -8 |
BlueHue | 0 |
BlueSaturation | 0 |
CameraProfile | Adobe Standard |
CircleOfConfusion | 0.030 mm |
Clarity2012 | +36 |
ColorComponents | 3 |
ColorNoiseReduction | 65 |
ColorNoiseReductionDetail | 50 |
ColorNoiseReductionSmoothness | 65 |
ColorSpace | sRGB |
ColorTemperature | 5750 |
ColorTransform | YCbCr |
Contrast2012 | +21 |
ConvertToGrayscale | True |
CreateDate (1) | 2019:03:11 14:28:55.00 |
CreateDate | 2019:03:11 14:28:55 |
CreatorTool | Adobe Photoshop Lightroom 6.12 (Macintosh) |
CustomRendered | Normal |
DateCreated (1) | 2019:03:11 |
DateCreated | 2019:03:11 14:28:55.00 |
DateTimeOriginal | 2019:03:11 14:28:55 |
Dehaze | +28 |
DistortionCorrectionAlreadyApplied | True |
DOF | inf (85.20 m - inf) |
Exposure2012 | -1.80 |
ExposureCompensation | 0 |
ExposureMode | Manual |
ExposureProgram | Manual |
ExposureTime | 1/500 |
Firmware | 1.1.6 |
Flash | Off, Did not fire |
FlashCompensation | 0 |
FNumber | 10.0 |
FocalLength | 160.0 mm |
FocalLength35efl | 160.0 mm (35 mm equivalent: 160.0 mm) |
Format | image/jpeg |
FOV | 12.8 deg |
GradientBasedCorrActive | true |
GradientBasedCorrAmount | 1.000000 |
GradientBasedCorrBrightness | 0.000000 |
GradientBasedCorrClarity2012 | 0.095572 |
GradientBasedCorrContrast2012 | 0.214332 |
GradientBasedCorrDefringe | 0.000000 |
GradientBasedCorrExposure2012 | 0.000000 |
GradientBasedCorrHighlights2012 | 0.285813 |
GradientBasedCorrHue | 230.000000 |
GradientBasedCorrLocalBlacks2012 | -0.039571 |
GradientBasedCorrLocalDehaze | 0.000000 |
GradientBasedCorrLocalWhites2012 | 0.191107 |
GradientBasedCorrLuminanceNoise | 0.000000 |
GradientBasedCorrMaskFullX | 0.413426 |
GradientBasedCorrMaskFullY | -0.066016 |
GradientBasedCorrMaskValue | 1.000000 |
GradientBasedCorrMaskWhat | Mask/Gradient |
GradientBasedCorrMaskZeroX | 0.530653 |
GradientBasedCorrMaskZeroY | 1.529680 |
GradientBasedCorrMoire | 0.000000 |
GradientBasedCorrSaturation (1) | -0.996518 |
GradientBasedCorrSaturation | 0.000000 |
GradientBasedCorrShadows2012 | 0.000000 |
GradientBasedCorrSharpness | 0.000000 |
GradientBasedCorrTemperature | 0.000000 |
GradientBasedCorrTint | 0.000000 |
GradientBasedCorrWhat | Correction |
GrainAmount | 0 |
GrayMixerAqua | -19 |
GrayMixerBlue | +8 |
GrayMixerGreen | -26 |
GrayMixerMagenta | +4 |
GrayMixerOrange | -18 |
GrayMixerPurple | +15 |
GrayMixerRed | -9 |
GrayMixerYellow | -22 |
GreenHue | 0 |
GreenSaturation | 0 |
HasCrop | False |
HasSettings | True |
Highlights2012 | +62 |
HyperfocalDistance | 85.20 m |
ImageHeight | 3648 |
ImageNumber | 0 |
ImageSize | 5472x3648 |
ImageWidth | 5472 |
ISO | 100 |
LateralChromaticAberrationCorrectionAlreadyApplied | True |
Lens | EF70-200mm f/2.8L IS II USM |
LensID (1) | 251 |
LensID | Canon EF 70-200mm f/2.8L IS II USM |
LensInfo | 70-200mm f/? |
LensManualDistortionAmount | 0 |
LensModel | EF70-200mm f/2.8L IS II USM |
LensProfileChromaticAberrationScale | 100 |
LensProfileDistortionScale | 100 |
LensProfileEnable | 1 |
LensProfileFilename | Canon EOS 5D Mark II (Canon EF 70-200mm f2.8L IS II USM) - RAW.lcp |
LensProfileName | Adobe (Canon EF 70-200mm f/2.8 L IS II USM) |
LensProfileSetup | LensDefaults |
LensProfileVignettingScale | 100 |
LensSerialNumber | 0000829199 |
LightValue | 15.6 |
LuminanceNoiseReductionContrast | 68 |
LuminanceNoiseReductionDetail | 50 |
LuminanceSmoothing | 61 |
Make | Canon |
MaxApertureValue | 2.8 |
Megapixels | 20.0 |
MeteringMode | Multi-segment |
Model | Canon EOS 6D |
ModifyDate (1) | 2023:12:11 16:09:13+01:00 |
ModifyDate | 2023:12:11 16:09:13 |
PaintCorrectionActive | true |
PaintCorrectionAmount | 1.000000 |
PaintCorrectionBrightness | 0.000000 |
PaintCorrectionClarity2012 (2) | 0.038919 |
PaintCorrectionClarity2012 (3) | 0.216763 |
PaintCorrectionClarity2012 | 0.000000 |
PaintCorrectionContrast2012 (2) | 0.238034 |
PaintCorrectionContrast2012 (3) | 0.314831 |
PaintCorrectionContrast2012 (5) | 0.077577 |
PaintCorrectionContrast2012 (6) | 0.155860 |
PaintCorrectionContrast2012 (7) | 0.134727 |
PaintCorrectionContrast2012 | 0.000000 |
PaintCorrectionDefringe | 0.000000 |
PaintCorrectionExposure2012 (1) | 0.153222 |
PaintCorrectionExposure2012 (3) | -0.042038 |
PaintCorrectionExposure2012 (5) | 0.123577 |
PaintCorrectionExposure2012 (6) | 0.096581 |
PaintCorrectionExposure2012 | 0.000000 |
PaintCorrectionHighlights2012 (2) | 0.031400 |
PaintCorrectionHighlights2012 (3) | 0.403986 |
PaintCorrectionHighlights2012 (4) | 0.000000 |
PaintCorrectionHighlights2012 (5) | 0.183872 |
PaintCorrectionHighlights2012 (6) | 0.113653 |
PaintCorrectionHighlights2012 (7) | 0.320430 |
PaintCorrectionHighlights2012 | 0.213490 |
PaintCorrectionHue | 230.000000 |
PaintCorrectionLocalBlacks2012 (1) | -0.029123 |
PaintCorrectionLocalBlacks2012 (2) | -0.072406 |
PaintCorrectionLocalBlacks2012 (3) | 0.214504 |
PaintCorrectionLocalBlacks2012 (5) | 0.000000 |
PaintCorrectionLocalBlacks2012 | 0.356881 |
PaintCorrectionLocalDehaze | 0.000000 |
PaintCorrectionLocalWhites2012 (2) | 0.121956 |
PaintCorrectionLocalWhites2012 (4) | 0.085629 |
PaintCorrectionLocalWhites2012 (6) | 0.131089 |
PaintCorrectionLocalWhites2012 (7) | 0.179688 |
PaintCorrectionLocalWhites2012 | 0.000000 |
PaintCorrectionLuminanceNoise | 0.000000 |
PaintCorrectionMaskCenterWeight | 0.110931 |
PaintCorrectionMaskFlow | 0.793294 |
PaintCorrectionMaskRadius (1) | 0.057370 |
PaintCorrectionMaskRadius (10) | 0.037483 |
PaintCorrectionMaskRadius (11) | 0.036981 |
PaintCorrectionMaskRadius (12) | 0.037667 |
PaintCorrectionMaskRadius (13) | 0.124395 |
PaintCorrectionMaskRadius (2) | 0.061974 |
PaintCorrectionMaskRadius (3) | 0.062765 |
PaintCorrectionMaskRadius (4) | 0.204451 |
PaintCorrectionMaskRadius (5) | 0.205205 |
PaintCorrectionMaskRadius (6) | 0.105497 |
PaintCorrectionMaskRadius (7) | 0.022635 |
PaintCorrectionMaskRadius (8) | 0.077909 |
PaintCorrectionMaskRadius (9) | 0.037209 |
PaintCorrectionMaskRadius | 0.216908 |
PaintCorrectionMaskValue | 0.863946 |
PaintCorrectionMaskWhat | Mask/Paint |
PaintCorrectionMoire | 0.000000 |
PaintCorrectionSaturation (5) | -0.629139 |
PaintCorrectionSaturation | 0.000000 |
PaintCorrectionShadows2012 (1) | 0.409901 |
PaintCorrectionShadows2012 (2) | -0.125405 |
PaintCorrectionShadows2012 (3) | -0.414034 |
PaintCorrectionShadows2012 (4) | 0.281097 |
PaintCorrectionShadows2012 (6) | 0.269496 |
PaintCorrectionShadows2012 | 0.000000 |
PaintCorrectionSharpness | 0.000000 |
PaintCorrectionTemperature | 0.000000 |
PaintCorrectionTint | 0.000000 |
PaintCorrectionWhat | Correction |
ParametricDarks | 0 |
ParametricHighlights | 0 |
ParametricHighlightSplit | 75 |
ParametricLights | 0 |
ParametricMidtoneSplit | 50 |
ParametricShadows | 0 |
ParametricShadowSplit | 25 |
PerspectiveAspect | 0 |
PerspectiveHorizontal | 0 |
PerspectiveRotate | 0.0 |
PerspectiveScale | 100 |
PerspectiveUpright | 0 |
PerspectiveVertical | 0 |
PerspectiveX | 0.00 |
PerspectiveY | 0.00 |
PostCropVignetteAmount | 0 |
ProcessVersion | 6.7 |
ProfileDescription | sRGB IEC61966-2.1 |
RecommendedExposureIndex | 100 |
RedHue | 0 |
RedSaturation | 0 |
ScaleFactor35efl | 1.0 |
SceneCaptureType | Standard |
SensitivityType | Recommended Exposure Index |
SerialNumber | 373051003880 |
Shadows2012 | -18 |
ShadowTint | 0 |
SharpenDetail | 58 |
SharpenEdgeMasking | 0 |
SharpenRadius | +1.0 |
Sharpness | 70 |
ShutterSpeed | 1/500 |
ShutterSpeedValue | 1/500 |
Software | Adobe Photoshop Lightroom 6.12 (Macintosh) |
SplitToningBalance | 0 |
SplitToningHighlightHue | 0 |
SplitToningHighlightSaturation | 0 |
SplitToningShadowHue | 0 |
SplitToningShadowSaturation | 0 |
Tint | +9 |
ToneCurve | 0, 0, 255, 255 |
ToneCurveBlue | 0, 0, 255, 255 |
ToneCurveGreen | 0, 0, 255, 255 |
ToneCurveName | Linear |
ToneCurveName2012 | Custom |
ToneCurvePV2012 | 0, 0, 81, 84, 133, 150, 193, 201, 255, 255 |
ToneCurvePV2012Blue | 0, 0, 255, 255 |
ToneCurvePV2012Green | 0, 0, 255, 255 |
ToneCurvePV2012Red | 0, 0, 255, 255 |
ToneCurveRed | 0, 0, 255, 255 |
ToneMapStrength | 0 |
Version | 9.12 |
VignetteAmount | 0 |
VignetteCorrectionAlreadyApplied | True |
WhiteBalance (1) | As Shot |
WhiteBalance | Auto |
Whites2012 | +40 |