Felt | Verdi |
AlreadyApplied | True |
Aperture | 11.0 |
ApertureValue | 11.0 |
AutoLateralCA | 0 |
BitsPerSample | 8 |
Blacks2012 | -49 |
BlueHue | 0 |
BlueSaturation | 0 |
Brightness | 0 |
CameraProfile | Embedded |
Caption-Abstract | Sequence: {DSC_8421.NEF: TV=0,002500, AV=11,0, Bias=0,0} {DSC_8420.NEF: TV=0,006250, AV=11,0, Bias=0,0} {DSC_8422.NEF: TV=0,016667, AV=11,0, Bias=0,0} |
Clarity | 0 |
Clarity2012 | +100 |
ColorComponents | 3 |
ColorNoiseReduction | 0 |
ColorTransform | YCbCr |
Contrast | 0 |
Contrast2012 | +15 |
ConvertToGrayscale | False |
CreatorTool | Adobe Photoshop Lightroom 4.0 (Windows) |
Defringe | 0 |
Description | Sequence: {DSC_8421.NEF: TV=0,002500, AV=11,0, Bias=0,0} {DSC_8420.NEF: TV=0,006250, AV=11,0, Bias=0,0} {DSC_8422.NEF: TV=0,016667, AV=11,0, Bias=0,0} |
Exposure | 0.00 |
Exposure2012 | -0.12 |
FillLight | 0 |
Flash | No Flash |
FNumber | 11.0 |
FocalLength | 18.0 mm |
FocalLength35efl | 18.0 mm |
Format | image/jpeg |
GrainAmount | 0 |
GreenHue | 0 |
GreenSaturation | 0 |
HasCrop | False |
HasSettings | True |
HighlightRecovery | 0 |
Highlights2012 | -90 |
HueAdjustmentAqua | 0 |
HueAdjustmentBlue | 0 |
HueAdjustmentGreen | 0 |
HueAdjustmentMagenta | 0 |
HueAdjustmentOrange | 0 |
HueAdjustmentPurple | 0 |
HueAdjustmentRed | 0 |
HueAdjustmentYellow | 0 |
ImageDescription | Sequence: {DSC_8421.NEF: TV=0,002500, AV=11,0, Bias=0,0} {DSC_8420.NEF: TV=0,006250, AV=11,0, Bias=0,0} {DSC_8422.NEF: TV=0,016667, AV=11,0, Bias=0,0} |
ImageHeight | 2613 |
ImageSize | 3900x2613 |
ImageWidth | 3900 |
IncrementalTemperature | +20 |
IncrementalTint | +15 |
ISO | 100 |
LensManualDistortionAmount | 0 |
LensProfileEnable | 0 |
LensProfileSetup | LensDefaults |
LuminanceAdjustmentAqua | 0 |
LuminanceAdjustmentBlue | 0 |
LuminanceAdjustmentGreen | 0 |
LuminanceAdjustmentMagenta | 0 |
LuminanceAdjustmentOrange | 0 |
LuminanceAdjustmentPurple | 0 |
LuminanceAdjustmentRed | 0 |
LuminanceAdjustmentYellow | 0 |
LuminanceSmoothing | 0 |
Make | NIKON |
Megapixels | 10.2 |
Model | D80 |
ModifyDate (1) | 2016:03:05 18:36:29+01:00 |
ModifyDate | 2016:03:05 18:36:29 |
ParametricDarks | +7 |
ParametricHighlights | +28 |
ParametricHighlightSplit | 75 |
ParametricLights | +1 |
ParametricMidtoneSplit | 50 |
ParametricShadows | +100 |
ParametricShadowSplit | 25 |
PerspectiveHorizontal | 0 |
PerspectiveRotate | 0.0 |
PerspectiveScale | 100 |
PerspectiveVertical | 0 |
PostCropVignetteAmount | 0 |
ProcessVersion | 6.7 |
ProfileDescription | sRGB IEC61966-2.1 |
RedHue | 0 |
RedSaturation | 0 |
Saturation | 0 |
SaturationAdjustmentAqua | 0 |
SaturationAdjustmentBlue | 0 |
SaturationAdjustmentGreen | 0 |
SaturationAdjustmentMagenta | 0 |
SaturationAdjustmentOrange | 0 |
SaturationAdjustmentPurple | 0 |
SaturationAdjustmentRed | 0 |
SaturationAdjustmentYellow | 0 |
Shadows | 0 |
Shadows2012 | +51 |
ShadowTint | 0 |
SharpenDetail | 25 |
SharpenEdgeMasking | 65 |
SharpenRadius | +1.0 |
Sharpness | 101 |
Software | Adobe Photoshop Lightroom 4.0 (Windows) |
SplitToningBalance | 0 |
SplitToningHighlightHue | 0 |
SplitToningHighlightSaturation | 0 |
SplitToningShadowHue | 0 |
SplitToningShadowSaturation | 0 |
ToneCurve | 0, 0, 255, 255 |
ToneCurveBlue | 0, 0, 255, 255 |
ToneCurveGreen | 0, 0, 255, 255 |
ToneCurveName | Linear |
ToneCurveName2012 | Linear |
ToneCurvePV2012 | 0, 0, 255, 255 |
ToneCurvePV2012Blue | 0, 0, 255, 255 |
ToneCurvePV2012Green | 0, 0, 255, 255 |
ToneCurvePV2012Red | 0, 0, 255, 255 |
ToneCurveRed | 0, 0, 255, 255 |
Version | 7.0 |
Vibrance | +37 |
VignetteAmount | 0 |
WhiteBalance | Custom |
Whites2012 | -83 |